BEGIN:VCALENDAR
VERSION:2.0
PRODID:-//ACF - ECPv4.2.7//NONSGML v1.0//EN
CALSCALE:GREGORIAN
METHOD:PUBLISH
X-WR-CALNAME:ACF
X-ORIGINAL-URL:https://ac-ft.pt
X-WR-CALDESC:Events for ACF
BEGIN:VEVENT
DTSTART;TZID=UTC+0:20161206T080000
DTEND;TZID=UTC+0:20161206T170000
DTSTAMP:20260422T222908
CREATED:20161015T182214
LAST-MODIFIED:20161015T182214
UID:2933-1481011200-1481043600@ac-ft.pt
SUMMARY:V Colóquio Farmacêutico do Algarve
DESCRIPTION:
URL:https://ac-ft.pt/evento/v-coloquio-farmaceutico-do-algarve-3/
LOCATION:Estrada da Penha\, Faro\, 8005-139\, Portugal
GEO:37.0397286;-7.9236418
X-APPLE-STRUCTURED-LOCATION;VALUE=URI;X-ADDRESS=Estrada da Penha Faro 8005-139 Portugal;X-APPLE-RADIUS=500;X-TITLE=Estrada da Penha:geo:-7.9236418,37.0397286
END:VEVENT
END:VCALENDAR