BEGIN:VCALENDAR
VERSION:2.0
PRODID:-//ACF - ECPv4.2.7//NONSGML v1.0//EN
CALSCALE:GREGORIAN
METHOD:PUBLISH
X-WR-CALNAME:ACF
X-ORIGINAL-URL:https://ac-ft.pt
X-WR-CALDESC:Events for ACF
BEGIN:VEVENT
DTSTART;TZID=UTC+0:20170221T090000
DTEND;TZID=UTC+0:20170221T094500
DTSTAMP:20260422T222811
CREATED:20170129T105527
LAST-MODIFIED:20170129T105527
UID:2886-1487667600-1487670300@ac-ft.pt
SUMMARY:Suporte Básico de Estágio
DESCRIPTION:Organizado pelo Gabinete de Estágios e Saídas Profissionais (GESP) da Associação dos Estudantes da Faculdade de Farmácia da Universidade de Lisboa (AEFFUL)
URL:https://ac-ft.pt/evento/suporte-basico-de-estagio-2/
LOCATION:Av. Prof. Gama Pinto\, Lisboa\, 1649-003 Lisboa\, Portugal
GEO:38.7475877;-9.1574628
X-APPLE-STRUCTURED-LOCATION;VALUE=URI;X-ADDRESS=Av. Prof. Gama Pinto Lisboa 1649-003 Lisboa Portugal;X-APPLE-RADIUS=500;X-TITLE=Av. Prof. Gama Pinto:geo:-9.1574628,38.7475877
END:VEVENT
END:VCALENDAR