BEGIN:VCALENDAR
VERSION:2.0
PRODID:-//ACF - ECPv4.2.7//NONSGML v1.0//EN
CALSCALE:GREGORIAN
METHOD:PUBLISH
X-WR-CALNAME:ACF
X-ORIGINAL-URL:https://ac-ft.pt
X-WR-CALDESC:Events for ACF
BEGIN:VEVENT
DTSTART;TZID=UTC+0:20210528T200000
DTEND;TZID=UTC+0:20210528T230000
DTSTAMP:20260422T112637
CREATED:20210507T160849
LAST-MODIFIED:20210507T160849
UID:4022-1622232000-1622242800@ac-ft.pt
SUMMARY:Revisão da medicação
DESCRIPTION:A revisão da medicação consiste numa avaliação estruturada da medicação do doente com o objetivo de otimizar o uso dos medicamentos e melhorar os resultados em saúde. Importa que o Farmacêutico incorpore esta prática no seu dia-a-dia\, por forma a melhor contribuir para a saúde das pessoas com doença\, especialmente com doença crónica.\n\nObjetivo: Dotar os Farmacêuticos de conhecimentos básicos acerca da revisão da medicação.
URL:https://ac-ft.pt/evento/revisao-da-medicacao/
END:VEVENT
END:VCALENDAR