BEGIN:VCALENDAR
VERSION:2.0
PRODID:-//ACF - ECPv4.2.7//NONSGML v1.0//EN
CALSCALE:GREGORIAN
METHOD:PUBLISH
X-WR-CALNAME:ACF
X-ORIGINAL-URL:https://ac-ft.pt
X-WR-CALDESC:Events for ACF
BEGIN:VEVENT
DTSTART;TZID=UTC+0:20161104T080000
DTEND;TZID=UTC+0:20161104T170000
DTSTAMP:20260422T223215
CREATED:20161015T182131
LAST-MODIFIED:20161015T182131
UID:2392-1478246400-1478278800@ac-ft.pt
SUMMARY:Reunião de Delegados de Farmacovigilância\, Unidade de Farmacovigilância do Sul
DESCRIPTION:
URL:https://ac-ft.pt/evento/reuniao-de-delegados-de-farmacovigilancia-unidade-de-farmacovigilancia-do-sul/
LOCATION:Av. Prof. Gama Pinto\, Lisboa\, 1649-003 Lisboa\, Portugal
GEO:38.7475877;-9.1574628
X-APPLE-STRUCTURED-LOCATION;VALUE=URI;X-ADDRESS=Av. Prof. Gama Pinto Lisboa 1649-003 Lisboa Portugal;X-APPLE-RADIUS=500;X-TITLE=Av. Prof. Gama Pinto:geo:-9.1574628,38.7475877
END:VEVENT
END:VCALENDAR