BEGIN:VCALENDAR
VERSION:2.0
PRODID:-//ACF - ECPv4.2.7//NONSGML v1.0//EN
CALSCALE:GREGORIAN
METHOD:PUBLISH
X-WR-CALNAME:ACF
X-ORIGINAL-URL:https://ac-ft.pt
X-WR-CALDESC:Events for ACF
BEGIN:VEVENT
DTSTART;TZID=UTC+0:20210520T200000
DTEND;TZID=UTC+0:20210520T230000
DTSTAMP:20260422T113639
CREATED:20210507T160718
LAST-MODIFIED:20210507T160718
UID:4020-1621540800-1621551600@ac-ft.pt
SUMMARY:Reconciliação terapêutica
DESCRIPTION:A revisão da medicação consiste numa avaliação estruturada da medicação do doente com o objetivo de otimizar o uso dos medicamentos e melhorar os resultados em saúde. Importa que o Farmacêutico incorpore esta prática no seu dia-a-dia\, por forma a melhor contribuir para a saúde das pessoas com doença\, especialmente com doença crónica.\n\nObjetivo: Dotar os Farmacêuticos de conhecimentos básicos acerca da revisão da medicação.
URL:https://ac-ft.pt/evento/reconciliacao-terapeutica/
END:VEVENT
END:VCALENDAR