BEGIN:VCALENDAR
VERSION:2.0
PRODID:-//ACF - ECPv4.2.7//NONSGML v1.0//EN
CALSCALE:GREGORIAN
METHOD:PUBLISH
X-WR-CALNAME:ACF
X-ORIGINAL-URL:https://ac-ft.pt
X-WR-CALDESC:Events for ACF
BEGIN:VEVENT
DTSTART;TZID=UTC+0:20190528T140000
DTEND;TZID=UTC+0:20190528T180000
DTSTAMP:20260422T113022
CREATED:20190307T120638
LAST-MODIFIED:20190307T120638
UID:2783-1559052000-1559066400@ac-ft.pt
SUMMARY:Preparação Individualizada da Medicação | PORTO
DESCRIPTION:\n\nInscreva-se aqui
URL:https://ac-ft.pt/evento/preparacao-individualizada-da-medicacao-porto/
LOCATION:Avenida Sidónio Pais\, n.º 331 \, Porto\, 4100-468\, Portugal
END:VEVENT
END:VCALENDAR