BEGIN:VCALENDAR
VERSION:2.0
PRODID:-//ACF - ECPv4.2.7//NONSGML v1.0//EN
CALSCALE:GREGORIAN
METHOD:PUBLISH
X-WR-CALNAME:ACF
X-ORIGINAL-URL:https://ac-ft.pt
X-WR-CALDESC:Events for ACF
BEGIN:VEVENT
DTSTART;TZID=UTC+0:20180124T103000
DTEND;TZID=UTC+0:20180124T180000
DTSTAMP:20260422T161238
CREATED:20171229T135016
LAST-MODIFIED:20171229T141111
UID:2693-1516789800-1516816800@ac-ft.pt
SUMMARY:Preparação Individualizada da Medicação I Workshop
DESCRIPTION:Workshop sobre Preparação Individualizada da Medicação. Destina-se a Farmacêuticos que já tenham efetuado a formação teórica (em formato e-learning\, na plataforma serfarma). Os colegas que não tenham efetuado esta componente\, para participarem no workshop terão de efetuar uma formação teórica\, que precede o workshop. Mais informações e inscrições em https://www.serfarma.pt/pt/formacao/detalhes-inscricao/\n\n 
URL:https://ac-ft.pt/evento/preparacao-individualizada-da-medicacao-i-workshop/
ATTACH;FMTTYPE=image/jpeg:https://ac-ft.pt/wp-content/uploads/2017/12/workshopPIM_detalhes2.jpg
END:VEVENT
END:VCALENDAR