BEGIN:VCALENDAR
VERSION:2.0
PRODID:-//ACF - ECPv4.2.7//NONSGML v1.0//EN
CALSCALE:GREGORIAN
METHOD:PUBLISH
X-WR-CALNAME:ACF
X-ORIGINAL-URL:https://ac-ft.pt
X-WR-CALDESC:Events for ACF
BEGIN:VEVENT
DTSTART;TZID=UTC+0:20190220T140000
DTEND;TZID=UTC+0:20190220T190000
DTSTAMP:20260422T130443
CREATED:20190208T103427
LAST-MODIFIED:20190208T103427
UID:2903-1550671200-1550689200@ac-ft.pt
SUMMARY:Preparação Individualizada da Medicação | COIMBRA
DESCRIPTION:[caption id="attachment_2607" align="alignnone" width="300"] Consulte aqui o Programa. Inscrições: clique aqui[/caption]
URL:https://ac-ft.pt/evento/preparacao-individualizada-da-medicacao-coimbra-2/
LOCATION:Coimbra\, Portugal
END:VEVENT
END:VCALENDAR