BEGIN:VCALENDAR
VERSION:2.0
PRODID:-//ACF - ECPv4.2.7//NONSGML v1.0//EN
CALSCALE:GREGORIAN
METHOD:PUBLISH
X-WR-CALNAME:ACF
X-ORIGINAL-URL:https://ac-ft.pt
X-WR-CALDESC:Events for ACF
BEGIN:VEVENT
DTSTART;TZID=UTC+0:20170105T163000
DTEND;TZID=UTC+0:20170105T190000
DTSTAMP:20260422T222727
CREATED:20161229T110447
LAST-MODIFIED:20161229T110447
UID:2885-1483633800-1483642800@ac-ft.pt
SUMMARY:PharmCareer
DESCRIPTION:V Edição do evento PharmCareer\n\nPela terceira vez a farmacêutica\, Mónica Condinho\, ex-aluna da Faculdade de Farmácia da Universidade de Coimbra (FFUC)\, marcará presença no Careers Talkshow\, realizado no âmbito da 5ª edição do PharmCareer\, organizado pelo Laboratório de Empregabilidade da FFUC e pelo Núcleo de Estudantes de Farmácia da Associação Académica da Universidade de Coimbra. O objetivo será a partilha da sua experiência profissional com os alunos finalistas.
URL:https://ac-ft.pt/evento/pharmcareer-2/
LOCATION:Pólo das Ciências da Saúde. Azinhaga de Santa Comba\, Coimbra\, 3000-548 \, Portugal
GEO:40.219091;-8.4168902
X-APPLE-STRUCTURED-LOCATION;VALUE=URI;X-ADDRESS=Pólo das Ciências da Saúde. Azinhaga de Santa Comba Coimbra 3000-548  Portugal;X-APPLE-RADIUS=500;X-TITLE=Pólo das Ciências da Saúde. Azinhaga de Santa Comba:geo:-8.4168902,40.219091
END:VEVENT
END:VCALENDAR