BEGIN:VCALENDAR
VERSION:2.0
PRODID:-//ACF - ECPv4.2.7//NONSGML v1.0//EN
CALSCALE:GREGORIAN
METHOD:PUBLISH
X-WR-CALNAME:ACF
X-ORIGINAL-URL:https://ac-ft.pt
X-WR-CALDESC:Events for ACF
BEGIN:VEVENT
DTSTART;TZID=UTC+0:20170404T140000
DTEND;TZID=UTC+0:20170404T180000
DTSTAMP:20260422T223141
CREATED:20170222T015227
LAST-MODIFIED:20170222T015227
UID:2939-1491314400-1491328800@ac-ft.pt
SUMMARY:Pé Diabético - Principais Problemas na prática da farmácia
DESCRIPTION:Formação AFP
URL:https://ac-ft.pt/evento/pe-diabetico-principais-problemas-na-pratica-da-farmacia-4/
END:VEVENT
END:VCALENDAR