BEGIN:VCALENDAR
VERSION:2.0
PRODID:-//ACF - ECPv4.2.7//NONSGML v1.0//EN
CALSCALE:GREGORIAN
METHOD:PUBLISH
X-WR-CALNAME:ACF
X-ORIGINAL-URL:https://ac-ft.pt
X-WR-CALDESC:Events for ACF
BEGIN:VEVENT
DTSTART;VALUE=DATE:20210326
DTEND;VALUE=DATE:20210326
DTSTAMP:20260422T113818
CREATED:20210426
LAST-MODIFIED:20210426
UID:4005-1616716800-1616803199@ac-ft.pt
SUMMARY:Medicamentos de Biotecnologia: do Hospital para a Farmácia Comunitária
DESCRIPTION:
URL:https://ac-ft.pt/evento/medicamentos-de-biotecnologia-do-hospital-para-a-farmacia-comunitaria/
END:VEVENT
END:VCALENDAR