BEGIN:VCALENDAR
VERSION:2.0
PRODID:-//ACF - ECPv4.2.7//NONSGML v1.0//EN
CALSCALE:GREGORIAN
METHOD:PUBLISH
X-WR-CALNAME:ACF
X-ORIGINAL-URL:https://ac-ft.pt
X-WR-CALDESC:Events for ACF
BEGIN:VEVENT
DTSTART;TZID=UTC+0:20190525T090000
DTEND;TZID=UTC+0:20190525T190000
DTSTAMP:20260422T145106
CREATED:20190307T120039
LAST-MODIFIED:20190307T120039
UID:2905-1558774800-1558810800@ac-ft.pt
SUMMARY:INTERVENÇÃO FARMACÊUTICA PARA A REALIZAÇÃO DE TESTES RÁPIDOS EM INFEÇÕES VIRAIS POR VIH\, VHC E VHB
DESCRIPTION:\n\nInscreva-se aqui
URL:https://ac-ft.pt/evento/intervencao-farmaceutica-para-a-realizacao-de-testes-rapidos-em-infecoes-virais-por-vih-vhc-e-vhb-2-2/
END:VEVENT
END:VCALENDAR