BEGIN:VCALENDAR
VERSION:2.0
PRODID:-//ACF - ECPv4.2.7//NONSGML v1.0//EN
CALSCALE:GREGORIAN
METHOD:PUBLISH
X-WR-CALNAME:ACF
X-ORIGINAL-URL:https://ac-ft.pt
X-WR-CALDESC:Events for ACF
BEGIN:VEVENT
DTSTART;TZID=UTC+0:20161022T080000
DTEND;TZID=UTC+0:20161022T170000
DTSTAMP:20260423T000846
CREATED:20161015T182056
LAST-MODIFIED:20161015T182056
UID:2388-1477123200-1477155600@ac-ft.pt
SUMMARY:Encontros da OF dos Farmacêuticos - A Farmácia nos Cuidados de Saúde
DESCRIPTION:
URL:https://ac-ft.pt/evento/encontros-da-of-dos-farmaceuticos-a-farmacia-nos-cuidados-de-saude/
LOCATION:Torres Vedras\, Portugal
GEO:39.0917759;-9.2600341
END:VEVENT
END:VCALENDAR