BEGIN:VCALENDAR
VERSION:2.0
PRODID:-//ACF - ECPv4.2.7//NONSGML v1.0//EN
CALSCALE:GREGORIAN
METHOD:PUBLISH
X-WR-CALNAME:ACF
X-ORIGINAL-URL:https://ac-ft.pt
X-WR-CALDESC:Events for ACF
BEGIN:VEVENT
DTSTART;TZID=UTC+0:20170516T140000
DTEND;TZID=UTC+0:20170516T180000
DTSTAMP:20260422T191727
CREATED:20170429T092602
LAST-MODIFIED:20170429T092602
UID:2555-1494943200-1494957600@ac-ft.pt
SUMMARY:Dispositivos Inalatórios e Câmaras de Expansão - Utilização Prática
DESCRIPTION:Decorrerá na sede da AFP Porto a formação "Dispositivos Inalatórios e Câmaras de Expansão - Utilização Prática"
URL:https://ac-ft.pt/evento/dispositivos-inalatorios-e-camaras-de-expansao-utilizacao-pratica/
END:VEVENT
END:VCALENDAR