BEGIN:VCALENDAR
VERSION:2.0
PRODID:-//ACF - ECPv4.2.7//NONSGML v1.0//EN
CALSCALE:GREGORIAN
METHOD:PUBLISH
X-WR-CALNAME:ACF
X-ORIGINAL-URL:https://ac-ft.pt
X-WR-CALDESC:Events for ACF
BEGIN:VEVENT
DTSTART;TZID=UTC+0:20170530T140000
DTEND;TZID=UTC+0:20170530T180000
DTSTAMP:20260422T205404
CREATED:20170429T092732
LAST-MODIFIED:20170429T092732
UID:2557-1496152800-1496167200@ac-ft.pt
SUMMARY:Dispositivos Inalatórios e Câmaras de Expansão - Utilização Prática
DESCRIPTION:Decorrerá na Universidade Lusófona em Lisboa a formação da AFP "Dispositivos Inalatórios e Câmaras de Expansão - Utilização Prática".
URL:https://ac-ft.pt/evento/dispositivos-inalatorios-e-camaras-de-expansao-utilizacao-pratica-2/
LOCATION:Lisboa
GEO:38.7222524;-9.1393366
X-APPLE-STRUCTURED-LOCATION;VALUE=URI;X-ADDRESS=Lisboa;X-APPLE-RADIUS=500;X-TITLE=Lisboa:geo:-9.1393366,38.7222524
END:VEVENT
END:VCALENDAR