BEGIN:VCALENDAR
VERSION:2.0
PRODID:-//ACF - ECPv4.2.7//NONSGML v1.0//EN
CALSCALE:GREGORIAN
METHOD:PUBLISH
X-WR-CALNAME:ACF
X-ORIGINAL-URL:https://ac-ft.pt
X-WR-CALDESC:Events for ACF
BEGIN:VEVENT
DTSTART;TZID=UTC+0:20190206T140000
DTEND;TZID=UTC+0:20190206T190000
DTSTAMP:20260422T144927
CREATED:20190115T220746
LAST-MODIFIED:20190115T221046
UID:2746-1549461600-1549479600@ac-ft.pt
SUMMARY:Cessação Tabágica na Farmácia Comunitária - Intervenção Breve
DESCRIPTION:Segundo dados de 2016\, a cada 50 minutos morre um Português por doença atribuível ao tabaco. No entanto\, 20% da população Portuguesa com 15 ou mais anos continua a fumar. O farmacêutico comunitário encontra-se numa posição privilegiada para intervir na prevenção e controlo do tabagismo\, tendo em conta a sua acessibilidade e capacidade técnico-científica. A "Intervenção Breve" é uma ferramenta que permite ao farmacêutico atuar na promoção da cessação tabágica\, de forma estruturada e consistente. O estudo "Competências profissionais no âmbito da prevenção e do tratamento do tabagismo no final da formação pré-graduada dos profissionais de saúde"\, promovido pela Direção-Geral da Saúde (2017) revelou que os alunos finalistas de Ciências Farmacêuticas consideram a sua formação nesta área insuficiente para intervir no controlo do tabagismo. A nível profissional existe\, igualmente\, essa percepção. Importa\, por isso\, dotar os farmacêuticos das competências necessárias à sua atuação no controlo do tabagismo através da "Intervenção Breve". Consulte o Programa aqui.\n\nPara informações adicionais e inscrições: geral@ac-ft.pt
URL:https://ac-ft.pt/evento/cessacao-tabagica-na-farmacia-comunitaria-intervencao-breve/
LOCATION:Lisboa
GEO:38.7222524;-9.1393366
X-APPLE-STRUCTURED-LOCATION;VALUE=URI;X-ADDRESS=Lisboa;X-APPLE-RADIUS=500;X-TITLE=Lisboa:geo:-9.1393366,38.7222524
ATTACH;FMTTYPE=image/png:https://ac-ft.pt/wp-content/uploads/2019/01/Cessacao-tabagica.png
END:VEVENT
END:VCALENDAR