BEGIN:VCALENDAR
VERSION:2.0
PRODID:-//ACF - ECPv4.2.7//NONSGML v1.0//EN
CALSCALE:GREGORIAN
METHOD:PUBLISH
X-WR-CALNAME:ACF
X-ORIGINAL-URL:https://ac-ft.pt
X-WR-CALDESC:Events for ACF
BEGIN:VEVENT
DTSTART;TZID=UTC+0:20171021T090000
DTEND;TZID=UTC+0:20171021T130000
DTSTAMP:20260422T191621
CREATED:20170917T001711
LAST-MODIFIED:20170917T001711
UID:2946-1508576400-1508590800@ac-ft.pt
SUMMARY:Cardiologia para Farmacêuticos
DESCRIPTION:Realizar-se-á no próximo dia 21 de outubro\, na sede da Ordem dos Farmacêuticos\, a 2ª edição da formação "Cardiologia para Farmacêuticos". A AcF tem o prazer de\, mais uma vez\, colaborar nesta iniciativa abordando o "Papel do Farmacêutico na prevenção secundária de eventos cardiovasculares\, nomeadamente EAM". Inscrições em http://www.ordemfarmaceuticos.pt/pt/eventos/formacao-cardiologia-para-farmaceuticos/
URL:https://ac-ft.pt/evento/cardiologia-para-farmaceuticos-3/
ATTACH;FMTTYPE=image/jpeg:https://ac-ft.pt/wp-content/uploads/2017/09/img2.jpg
END:VEVENT
END:VCALENDAR