BEGIN:VCALENDAR
VERSION:2.0
PRODID:-//ACF - ECPv4.2.7//NONSGML v1.0//EN
CALSCALE:GREGORIAN
METHOD:PUBLISH
X-WR-CALNAME:ACF
X-ORIGINAL-URL:https://ac-ft.pt
X-WR-CALDESC:Events for ACF
BEGIN:VEVENT
DTSTART;TZID=UTC+0:20161019T080000
DTEND;TZID=UTC+0:20161019T170000
DTSTAMP:20260423T000442
CREATED:20161015T181954
LAST-MODIFIED:20161015T181954
UID:2384-1476864000-1476896400@ac-ft.pt
SUMMARY:Aula de Farmacoepidemiologia e Farmacovigilância
DESCRIPTION:
URL:https://ac-ft.pt/evento/aula-de-farmacoepidemiologia-e-farmacovigilancia/
LOCATION:Av. Prof. Gama Pinto\, Lisboa\, 1649-003 Lisboa\, Portugal
GEO:38.7475877;-9.1574628
X-APPLE-STRUCTURED-LOCATION;VALUE=URI;X-ADDRESS=Av. Prof. Gama Pinto Lisboa 1649-003 Lisboa Portugal;X-APPLE-RADIUS=500;X-TITLE=Av. Prof. Gama Pinto:geo:-9.1574628,38.7475877
END:VEVENT
END:VCALENDAR