BEGIN:VCALENDAR
VERSION:2.0
PRODID:-//ACF - ECPv4.2.7//NONSGML v1.0//EN
CALSCALE:GREGORIAN
METHOD:PUBLISH
X-WR-CALNAME:ACF
X-ORIGINAL-URL:https://ac-ft.pt
X-WR-CALDESC:Events for ACF
BEGIN:VEVENT
DTSTART;TZID=UTC+0:20210507T200000
DTEND;TZID=UTC+0:20210507T230000
DTSTAMP:20260421T112539
CREATED:20210503T085908
LAST-MODIFIED:20210503T085908
UID:4012-1620417600-1620428400@ac-ft.pt
SUMMARY:Acompanhamento Farmacoterapêutico - Metodologia
DESCRIPTION:Objectivo: Dotar os Farmacêuticos de conhecimentos básicos acerca da metodologia do Acompanhamento Farmacoterapêutico.\n\nO Acompanhamento Farmacoterapêutico consiste num serviço clínico altamente diferenciado que permite ao farmacêutico monitorizar a efetividade e segurança da terapêutica no contexto clínico do doente\, contribuindo para melhorar o seu estado de saúde e qualidade de vida. Contudo\, a sua implementação prática\, de forma continua e sistemática\, exige o conhecimento e domínio da metodologia.
URL:https://ac-ft.pt/evento/acompanhamento-farmacoterapeutico-metodologia/
END:VEVENT
END:VCALENDAR