BEGIN:VCALENDAR
VERSION:2.0
PRODID:-//ACF - ECPv4.2.7//NONSGML v1.0//EN
CALSCALE:GREGORIAN
METHOD:PUBLISH
X-WR-CALNAME:ACF
X-ORIGINAL-URL:https://ac-ft.pt
X-WR-CALDESC:Events for ACF
BEGIN:VEVENT
DTSTART;TZID=UTC+0:20170607T170000
DTEND;TZID=UTC+0:20170607T180000
DTSTAMP:20260422T191118
CREATED:20170429T093402
LAST-MODIFIED:20170429T093402
UID:2893-1496854800-1496858400@ac-ft.pt
SUMMARY:Academia Lusófona de Ciências Farmacêuticas
DESCRIPTION:Estaremos presentes!
URL:https://ac-ft.pt/evento/academia-lusofona-de-ciencias-farmaceuticos-2/
LOCATION:Lisboa
GEO:38.7222524;-9.1393366
X-APPLE-STRUCTURED-LOCATION;VALUE=URI;X-ADDRESS=Lisboa;X-APPLE-RADIUS=500;X-TITLE=Lisboa:geo:-9.1393366,38.7222524
END:VEVENT
END:VCALENDAR